BEGIN:VCALENDAR
VERSION:2.0
PRODID:-//wp-events-plugin.com//7.2.3.1//EN
TZID:America/New_York
X-WR-TIMEZONE:America/New_York
BEGIN:VEVENT
UID:96@mcc.marlcongchurch.org
DTSTART;TZID=America/New_York:20230625T100000
DTEND;TZID=America/New_York:20230625T120000
DTSTAMP:20230622T234609Z
URL:https://mcc.marlcongchurch.org/events/detail/childrens-sunday/
SUMMARY:Children's Sunday
DESCRIPTION:Come and enjoy our Children's Sunday service followed by a meal
  and fellowship.  If your last name begins with A-L\, please bring desser
 t and if it starts with M-Z\, please bring a side dish.  We will be outsi
 de\, weather permitting.
CATEGORIES:Christian Education
LOCATION:Marlborough Congregational Church - Cancelled\, 35 S. Main St\, Ma
 rlborough\, CT\, 6447\, United States
GEO:41.629087;-72.454894
X-APPLE-STRUCTURED-LOCATION;VALUE=URI;X-ADDRESS=35 S. Main St\, Marlborough
 \, CT\, 6447\, United States;X-APPLE-RADIUS=100;X-TITLE=Marlborough Congre
 gational Church - Cancelled:geo:41.629087,-72.454894
END:VEVENT
BEGIN:VTIMEZONE
TZID:America/New_York
X-LIC-LOCATION:America/New_York
BEGIN:DAYLIGHT
DTSTART:20230312T030000
TZOFFSETFROM:-0500
TZOFFSETTO:-0400
TZNAME:EDT
END:DAYLIGHT
END:VTIMEZONE
END:VCALENDAR